BEGIN:VCALENDAR
VERSION:2.0
PRODID:-//wp-events-plugin.com//7.2.3.1//EN
BEGIN:VEVENT
UID:151@madhrasi.com
DTSTART;TZID=America/New_York:20250601T110000
DTEND;TZID=America/New_York:20250601T170000
DTSTAMP:20250625T132156Z
URL:https://madhrasi.com/events/sowa-open-market-2025-06-01/
SUMMARY:SoWa Open Market
DESCRIPTION:
LOCATION:SoWa Open Market\, 500 Harrison Ave\, Boston\, MA\, 02118\, United
  States
X-APPLE-STRUCTURED-LOCATION;VALUE=URI;X-ADDRESS=500 Harrison Ave\, Boston\,
  MA\, 02118\, United States;X-APPLE-RADIUS=100;X-TITLE=SoWa Open Market:ge
 o:0,0
END:VEVENT
BEGIN:VEVENT
UID:63@madhrasi.com
DTSTART;TZID=America/New_York:20250604T120000
DTEND;TZID=America/New_York:20250604T180000
DTSTAMP:20250625T134455Z
URL:https://madhrasi.com/events/davis-square-farmers-market-2025-06-04/
SUMMARY:Davis Square Farmers Market
DESCRIPTION:
LOCATION:Davis Square Farmers Market\, 44 Day St\, Somerville\, MA\, 02144\
 , United States
X-APPLE-STRUCTURED-LOCATION;VALUE=URI;X-ADDRESS=44 Day St\, Somerville\, MA
 \, 02144\, United States;X-APPLE-RADIUS=100;X-TITLE=Davis Square Farmers M
 arket:geo:0,0
END:VEVENT
BEGIN:VEVENT
UID:108@madhrasi.com
DTSTART;TZID=America/New_York:20250605T150000
DTEND;TZID=America/New_York:20250605T190000
DTSTAMP:20250625T135125Z
URL:https://madhrasi.com/events/medford-farmers-market-2025-06-05/
SUMMARY:Medford Farmer's Market
DESCRIPTION:
LOCATION:Medford Farmer's Market\, 2501 Mystic Valley Pkwy\,  Medford\, MA\
 , 02155\, United States
X-APPLE-STRUCTURED-LOCATION;VALUE=URI;X-ADDRESS=2501 Mystic Valley Pkwy\,  
 Medford\, MA\, 02155\, United States;X-APPLE-RADIUS=100;X-TITLE=Medford Fa
 rmer's Market:geo:0,0
END:VEVENT
BEGIN:VEVENT
UID:152@madhrasi.com
DTSTART;TZID=America/New_York:20250608T110000
DTEND;TZID=America/New_York:20250608T170000
DTSTAMP:20250625T132156Z
URL:https://madhrasi.com/events/sowa-open-market-2025-06-08/
SUMMARY:SoWa Open Market
DESCRIPTION:
LOCATION:SoWa Open Market\, 500 Harrison Ave\, Boston\, MA\, 02118\, United
  States
X-APPLE-STRUCTURED-LOCATION;VALUE=URI;X-ADDRESS=500 Harrison Ave\, Boston\,
  MA\, 02118\, United States;X-APPLE-RADIUS=100;X-TITLE=SoWa Open Market:ge
 o:0,0
END:VEVENT
BEGIN:VEVENT
UID:129@madhrasi.com
DTSTART;TZID=America/New_York:20250612T140000
DTEND;TZID=America/New_York:20250612T183000
DTSTAMP:20250625T134813Z
URL:https://madhrasi.com/events/belmont-farmers-market-2025-06-12/
SUMMARY:Belmont Farmers’ Market
DESCRIPTION:
LOCATION:Belmont Farmers’ Market\, 10 Claflin St\, Belmont\, MA\, 02478\,
  United States
X-APPLE-STRUCTURED-LOCATION;VALUE=URI;X-ADDRESS=10 Claflin St\, Belmont\, M
 A\, 02478\, United States;X-APPLE-RADIUS=100;X-TITLE=Belmont Farmers’ Ma
 rket:geo:0,0
END:VEVENT
BEGIN:VEVENT
UID:109@madhrasi.com
DTSTART;TZID=America/New_York:20250612T150000
DTEND;TZID=America/New_York:20250612T190000
DTSTAMP:20250625T135125Z
URL:https://madhrasi.com/events/medford-farmers-market-2025-06-12/
SUMMARY:Medford Farmer's Market
DESCRIPTION:
LOCATION:Medford Farmer's Market\, 2501 Mystic Valley Pkwy\,  Medford\, MA\
 , 02155\, United States
X-APPLE-STRUCTURED-LOCATION;VALUE=URI;X-ADDRESS=2501 Mystic Valley Pkwy\,  
 Medford\, MA\, 02155\, United States;X-APPLE-RADIUS=100;X-TITLE=Medford Fa
 rmer's Market:geo:0,0
END:VEVENT
BEGIN:VEVENT
UID:153@madhrasi.com
DTSTART;TZID=America/New_York:20250615T110000
DTEND;TZID=America/New_York:20250615T170000
DTSTAMP:20250625T132156Z
URL:https://madhrasi.com/events/sowa-open-market-2025-06-15/
SUMMARY:SoWa Open Market
DESCRIPTION:
LOCATION:SoWa Open Market\, 500 Harrison Ave\, Boston\, MA\, 02118\, United
  States
X-APPLE-STRUCTURED-LOCATION;VALUE=URI;X-ADDRESS=500 Harrison Ave\, Boston\,
  MA\, 02118\, United States;X-APPLE-RADIUS=100;X-TITLE=SoWa Open Market:ge
 o:0,0
END:VEVENT
BEGIN:VEVENT
UID:64@madhrasi.com
DTSTART;TZID=America/New_York:20250618T120000
DTEND;TZID=America/New_York:20250618T180000
DTSTAMP:20250625T134455Z
URL:https://madhrasi.com/events/davis-square-farmers-market-2025-06-18/
SUMMARY:Davis Square Farmers Market
DESCRIPTION:
LOCATION:Davis Square Farmers Market\, 44 Day St\, Somerville\, MA\, 02144\
 , United States
X-APPLE-STRUCTURED-LOCATION;VALUE=URI;X-ADDRESS=44 Day St\, Somerville\, MA
 \, 02144\, United States;X-APPLE-RADIUS=100;X-TITLE=Davis Square Farmers M
 arket:geo:0,0
END:VEVENT
BEGIN:VEVENT
UID:110@madhrasi.com
DTSTART;TZID=America/New_York:20250619T150000
DTEND;TZID=America/New_York:20250619T190000
DTSTAMP:20250625T135125Z
URL:https://madhrasi.com/events/medford-farmers-market-2025-06-19/
SUMMARY:Medford Farmer's Market
DESCRIPTION:
LOCATION:Medford Farmer's Market\, 2501 Mystic Valley Pkwy\,  Medford\, MA\
 , 02155\, United States
X-APPLE-STRUCTURED-LOCATION;VALUE=URI;X-ADDRESS=2501 Mystic Valley Pkwy\,  
 Medford\, MA\, 02155\, United States;X-APPLE-RADIUS=100;X-TITLE=Medford Fa
 rmer's Market:geo:0,0
END:VEVENT
BEGIN:VEVENT
UID:1@madhrasi.com
DTSTART;TZID=America/New_York:20250621T070000
DTEND;TZID=America/New_York:20250621T140000
DTSTAMP:20250621T085600Z
URL:https://madhrasi.com/events/braintree-farmers-market/
SUMMARY:Braintree Farmers Market
DESCRIPTION:
LOCATION:Braintree Farmers Market\, 1 John F Kennedy Memorial Dr\, Braintre
 e\, MA\, 02184\, United States
X-APPLE-STRUCTURED-LOCATION;VALUE=URI;X-ADDRESS=1 John F Kennedy Memorial D
 r\, Braintree\, MA\, 02184\, United States;X-APPLE-RADIUS=100;X-TITLE=Brai
 ntree Farmers Market:geo:0,0
END:VEVENT
BEGIN:VEVENT
UID:3@madhrasi.com
DTSTART;TZID=America/New_York:20250621T090000
DTEND;TZID=America/New_York:20250621T130000
DTSTAMP:20250625T131507Z
URL:https://madhrasi.com/events/union-square-farmers-market-2025-06-21/
SUMMARY:Union Square Farmers Market
DESCRIPTION:
LOCATION:Union Square Farmers Market\, 66-70 Union Square\, Somerville\, MA
 \,  02143\, United States
X-APPLE-STRUCTURED-LOCATION;VALUE=URI;X-ADDRESS=66-70 Union Square\, Somerv
 ille\, MA\,  02143\, United States;X-APPLE-RADIUS=100;X-TITLE=Union Square
  Farmers Market:geo:0,0
END:VEVENT
BEGIN:VEVENT
UID:24@madhrasi.com
DTSTART;TZID=America/New_York:20250621T090000
DTEND;TZID=America/New_York:20250621T133000
DTSTAMP:20250625T131637Z
URL:https://madhrasi.com/events/roslindale-farmers-market-2025-06-21/
SUMMARY:Roslindale Farmers Market
DESCRIPTION:
LOCATION:Roslindale Farmers Market\, 67 Poplar St\, Boston\, MA\, 02131\, U
 nited States
X-APPLE-STRUCTURED-LOCATION;VALUE=URI;X-ADDRESS=67 Poplar St\, Boston\, MA\
 , 02131\, United States;X-APPLE-RADIUS=100;X-TITLE=Roslindale Farmers Mark
 et:geo:0,0
END:VEVENT
BEGIN:VEVENT
UID:48@madhrasi.com
DTSTART;TZID=America/New_York:20250621T100000
DTEND;TZID=America/New_York:20250621T160000
DTSTAMP:20250619T103212Z
URL:https://madhrasi.com/events/food-fight-event/
SUMMARY:Food Fight Event
DESCRIPTION:https://secure.qgiv.com/for/ssfbfoodfighters/event/foodfight/
CATEGORIES:SpecialEvents
LOCATION:Starland Sportsplex & Fun Park\, 637 Washington St. \, Hanover\, M
 A\, 02339\, United States
X-APPLE-STRUCTURED-LOCATION;VALUE=URI;X-ADDRESS=637 Washington St. \, Hanov
 er\, MA\, 02339\, United States;X-APPLE-RADIUS=100;X-TITLE=Starland Sports
 plex & Fun Park:geo:0,0
END:VEVENT
BEGIN:VEVENT
UID:175@madhrasi.com
DTSTART;TZID=America/New_York:20250622T080000
DTEND;TZID=America/New_York:20250622T140000
DTSTAMP:20250619T115942Z
URL:https://madhrasi.com/events/acton-boxborough-farmers-market/
SUMMARY:Acton-Boxborough Farmers Market
DESCRIPTION:
LOCATION:Acton-Boxborough Farmers Market\, 19 Elm St\, Acton\, MA\, 01720\,
  United States
X-APPLE-STRUCTURED-LOCATION;VALUE=URI;X-ADDRESS=19 Elm St\, Acton\, MA\, 01
 720\, United States;X-APPLE-RADIUS=100;X-TITLE=Acton-Boxborough Farmers Ma
 rket:geo:0,0
END:VEVENT
BEGIN:VEVENT
UID:174@madhrasi.com
DTSTART;TZID=America/New_York:20250622T080000
DTEND;TZID=America/New_York:20250622T140000
DTSTAMP:20250619T115704Z
URL:https://madhrasi.com/events/canton-farmers-market/
SUMMARY:Canton Farmers Market
DESCRIPTION:
LOCATION:Canton Farmers Market\, 960 Washington St\, Canton\, MA\, 02021\, 
 United States
X-APPLE-STRUCTURED-LOCATION;VALUE=URI;X-ADDRESS=960 Washington St\, Canton\
 , MA\, 02021\, United States;X-APPLE-RADIUS=100;X-TITLE=Canton Farmers Mar
 ket:geo:0,0
END:VEVENT
BEGIN:VEVENT
UID:49@madhrasi.com
DTSTART;TZID=America/New_York:20250622T090000
DTEND;TZID=America/New_York:20251102T180000
DTSTAMP:20250619T094446Z
URL:https://madhrasi.com/events/sowa-open-market/
SUMMARY:SoWa Open Market
DESCRIPTION:
LOCATION:SoWa Open Market\, 500 Harrison Ave\, Boston\, MA\, 02118\, United
  States
X-APPLE-STRUCTURED-LOCATION;VALUE=URI;X-ADDRESS=500 Harrison Ave\, Boston\,
  MA\, 02118\, United States;X-APPLE-RADIUS=100;X-TITLE=SoWa Open Market:ge
 o:0,0
END:VEVENT
BEGIN:VEVENT
UID:154@madhrasi.com
DTSTART;TZID=America/New_York:20250622T110000
DTEND;TZID=America/New_York:20250622T170000
DTSTAMP:20250625T132156Z
URL:https://madhrasi.com/events/sowa-open-market-2025-06-22/
SUMMARY:SoWa Open Market
DESCRIPTION:
LOCATION:SoWa Open Market\, 500 Harrison Ave\, Boston\, MA\, 02118\, United
  States
X-APPLE-STRUCTURED-LOCATION;VALUE=URI;X-ADDRESS=500 Harrison Ave\, Boston\,
  MA\, 02118\, United States;X-APPLE-RADIUS=100;X-TITLE=SoWa Open Market:ge
 o:0,0
END:VEVENT
BEGIN:VEVENT
UID:51@madhrasi.com
DTSTART;TZID=America/New_York:20250624T120000
DTEND;TZID=America/New_York:20250624T190000
DTSTAMP:20250619T095241Z
URL:https://madhrasi.com/events/lexington-farmers-market-2025-06-24/
SUMMARY:Lexington Farmer's Market
DESCRIPTION:
LOCATION:Lexington Farmer's Market\, Practice Field\, Worthen Rd\, Lexingto
 n\, MA\, 02420\, United States
X-APPLE-STRUCTURED-LOCATION;VALUE=URI;X-ADDRESS=Practice Field\, Worthen Rd
 \, Lexington\, MA\, 02420\, United States;X-APPLE-RADIUS=100;X-TITLE=Lexin
 gton Farmer's Market:geo:0,0
END:VEVENT
BEGIN:VEVENT
UID:192@madhrasi.com
DTSTART;TZID=America/New_York:20250626T130000
DTEND;TZID=America/New_York:20250626T180000
DTSTAMP:20250625T140756Z
URL:https://madhrasi.com/events/melrose-farmers-market-2025-06-26/
SUMMARY:Melrose Farmer's Market
DESCRIPTION:
LOCATION:Melrose Farmers Market\, 160-172 W Emerson St\,  Melrose\, MA\,  0
 2176\, United States
X-APPLE-STRUCTURED-LOCATION;VALUE=URI;X-ADDRESS=160-172 W Emerson St\,  Mel
 rose\, MA\,  02176\, United States;X-APPLE-RADIUS=100;X-TITLE=Melrose Farm
 ers Market:geo:0,0
END:VEVENT
BEGIN:VEVENT
UID:130@madhrasi.com
DTSTART;TZID=America/New_York:20250626T140000
DTEND;TZID=America/New_York:20250626T183000
DTSTAMP:20250625T134813Z
URL:https://madhrasi.com/events/belmont-farmers-market-2025-06-26/
SUMMARY:Belmont Farmers’ Market
DESCRIPTION:
LOCATION:Belmont Farmers’ Market\, 10 Claflin St\, Belmont\, MA\, 02478\,
  United States
X-APPLE-STRUCTURED-LOCATION;VALUE=URI;X-ADDRESS=10 Claflin St\, Belmont\, M
 A\, 02478\, United States;X-APPLE-RADIUS=100;X-TITLE=Belmont Farmers’ Ma
 rket:geo:0,0
END:VEVENT
BEGIN:VEVENT
UID:111@madhrasi.com
DTSTART;TZID=America/New_York:20250626T150000
DTEND;TZID=America/New_York:20250626T190000
DTSTAMP:20250625T135125Z
URL:https://madhrasi.com/events/medford-farmers-market-2025-06-26/
SUMMARY:Medford Farmer's Market
DESCRIPTION:
LOCATION:Medford Farmer's Market\, 2501 Mystic Valley Pkwy\,  Medford\, MA\
 , 02155\, United States
X-APPLE-STRUCTURED-LOCATION;VALUE=URI;X-ADDRESS=2501 Mystic Valley Pkwy\,  
 Medford\, MA\, 02155\, United States;X-APPLE-RADIUS=100;X-TITLE=Medford Fa
 rmer's Market:geo:0,0
END:VEVENT
BEGIN:VEVENT
UID:4@madhrasi.com
DTSTART;TZID=America/New_York:20250628T090000
DTEND;TZID=America/New_York:20250628T130000
DTSTAMP:20250625T131507Z
URL:https://madhrasi.com/events/union-square-farmers-market-2025-06-28/
SUMMARY:Union Square Farmers Market
DESCRIPTION:
LOCATION:Union Square Farmers Market\, 66-70 Union Square\, Somerville\, MA
 \,  02143\, United States
X-APPLE-STRUCTURED-LOCATION;VALUE=URI;X-ADDRESS=66-70 Union Square\, Somerv
 ille\, MA\,  02143\, United States;X-APPLE-RADIUS=100;X-TITLE=Union Square
  Farmers Market:geo:0,0
END:VEVENT
BEGIN:VEVENT
UID:25@madhrasi.com
DTSTART;TZID=America/New_York:20250628T090000
DTEND;TZID=America/New_York:20250628T133000
DTSTAMP:20250625T131637Z
URL:https://madhrasi.com/events/roslindale-farmers-market-2025-06-28/
SUMMARY:Roslindale Farmers Market
DESCRIPTION:
LOCATION:Roslindale Farmers Market\, 67 Poplar St\, Boston\, MA\, 02131\, U
 nited States
X-APPLE-STRUCTURED-LOCATION;VALUE=URI;X-ADDRESS=67 Poplar St\, Boston\, MA\
 , 02131\, United States;X-APPLE-RADIUS=100;X-TITLE=Roslindale Farmers Mark
 et:geo:0,0
END:VEVENT
BEGIN:VEVENT
UID:142@madhrasi.com
DTSTART;TZID=America/New_York:20250628T110000
DTEND;TZID=America/New_York:20250628T140000
DTSTAMP:20250619T114030Z
URL:https://madhrasi.com/events/clements-marketplace/
SUMMARY:Clements Marketplace
DESCRIPTION:
LOCATION:Clements' Marketplace\, 2575 East Main Road\, Portsmouth\, RI\, 02
 871-4037\, United States
X-APPLE-STRUCTURED-LOCATION;VALUE=URI;X-ADDRESS=2575 East Main Road\, Ports
 mouth\, RI\, 02871-4037\, United States;X-APPLE-RADIUS=100;X-TITLE=Clement
 s' Marketplace:geo:0,0
END:VEVENT
BEGIN:VEVENT
UID:141@madhrasi.com
DTSTART;TZID=America/New_York:20250628T110000
DTEND;TZID=America/New_York:20250628T180000
DTSTAMP:20250625T131855Z
URL:https://madhrasi.com/events/seaport-market/
SUMMARY:Seaport Market
DESCRIPTION:
LOCATION:Seaport Summer Market\, 88 Seaport Blvd\, Boston\, MA\, 02210\, Un
 ited States
X-APPLE-STRUCTURED-LOCATION;VALUE=URI;X-ADDRESS=88 Seaport Blvd\, Boston\, 
 MA\, 02210\, United States;X-APPLE-RADIUS=100;X-TITLE=Seaport Summer Marke
 t:geo:0,0
END:VEVENT
BEGIN:VEVENT
UID:178@madhrasi.com
DTSTART;TZID=America/New_York:20250629T100000
DTEND;TZID=America/New_York:20250629T140000
DTSTAMP:20250625T132916Z
URL:https://madhrasi.com/events/canton-farmers-market-2025-06-29/
SUMMARY:Canton Farmers Market
DESCRIPTION:
LOCATION:Canton Farmers Market\, 960 Washington St\, Canton\, MA\, 02021\, 
 United States
X-APPLE-STRUCTURED-LOCATION;VALUE=URI;X-ADDRESS=960 Washington St\, Canton\
 , MA\, 02021\, United States;X-APPLE-RADIUS=100;X-TITLE=Canton Farmers Mar
 ket:geo:0,0
END:VEVENT
BEGIN:VEVENT
UID:183@madhrasi.com
DTSTART;TZID=America/New_York:20250629T100000
DTEND;TZID=America/New_York:20250629T130000
DTSTAMP:20250625T133301Z
URL:https://madhrasi.com/events/acton-boxborough-farmers-market-2025-06-29
 /
SUMMARY:Acton-Boxborough Farmers Market
DESCRIPTION:
LOCATION:Acton-Boxborough Farmers Market\, 19 Elm St\, Acton\, MA\, 01720\,
  United States
X-APPLE-STRUCTURED-LOCATION;VALUE=URI;X-ADDRESS=19 Elm St\, Acton\, MA\, 01
 720\, United States;X-APPLE-RADIUS=100;X-TITLE=Acton-Boxborough Farmers Ma
 rket:geo:0,0
END:VEVENT
BEGIN:VEVENT
UID:176@madhrasi.com
DTSTART;TZID=America/New_York:20250629T110000
DTEND;TZID=America/New_York:20250629T180000
DTSTAMP:20250625T132052Z
URL:https://madhrasi.com/events/seaport-market-2/
SUMMARY:Seaport Market
DESCRIPTION:
LOCATION:Seaport Summer Market\, 88 Seaport Blvd\, Boston\, MA\, 02210\, Un
 ited States
X-APPLE-STRUCTURED-LOCATION;VALUE=URI;X-ADDRESS=88 Seaport Blvd\, Boston\, 
 MA\, 02210\, United States;X-APPLE-RADIUS=100;X-TITLE=Seaport Summer Marke
 t:geo:0,0
END:VEVENT
BEGIN:VEVENT
UID:155@madhrasi.com
DTSTART;TZID=America/New_York:20250629T110000
DTEND;TZID=America/New_York:20250629T170000
DTSTAMP:20250625T132156Z
URL:https://madhrasi.com/events/sowa-open-market-2025-06-29/
SUMMARY:SoWa Open Market
DESCRIPTION:
LOCATION:SoWa Open Market\, 500 Harrison Ave\, Boston\, MA\, 02118\, United
  States
X-APPLE-STRUCTURED-LOCATION;VALUE=URI;X-ADDRESS=500 Harrison Ave\, Boston\,
  MA\, 02118\, United States;X-APPLE-RADIUS=100;X-TITLE=SoWa Open Market:ge
 o:0,0
END:VEVENT
BEGIN:VEVENT
UID:65@madhrasi.com
DTSTART;TZID=America/New_York:20250702T120000
DTEND;TZID=America/New_York:20250702T180000
DTSTAMP:20250625T134455Z
URL:https://madhrasi.com/events/davis-square-farmers-market-2025-07-02/
SUMMARY:Davis Square Farmers Market
DESCRIPTION:
LOCATION:Davis Square Farmers Market\, 44 Day St\, Somerville\, MA\, 02144\
 , United States
X-APPLE-STRUCTURED-LOCATION;VALUE=URI;X-ADDRESS=44 Day St\, Somerville\, MA
 \, 02144\, United States;X-APPLE-RADIUS=100;X-TITLE=Davis Square Farmers M
 arket:geo:0,0
END:VEVENT
BEGIN:VEVENT
UID:193@madhrasi.com
DTSTART;TZID=America/New_York:20250703T130000
DTEND;TZID=America/New_York:20250703T180000
DTSTAMP:20250625T140756Z
URL:https://madhrasi.com/events/melrose-farmers-market-2025-07-03/
SUMMARY:Melrose Farmer's Market
DESCRIPTION:
LOCATION:Melrose Farmers Market\, 160-172 W Emerson St\,  Melrose\, MA\,  0
 2176\, United States
X-APPLE-STRUCTURED-LOCATION;VALUE=URI;X-ADDRESS=160-172 W Emerson St\,  Mel
 rose\, MA\,  02176\, United States;X-APPLE-RADIUS=100;X-TITLE=Melrose Farm
 ers Market:geo:0,0
END:VEVENT
BEGIN:VEVENT
UID:112@madhrasi.com
DTSTART;TZID=America/New_York:20250703T150000
DTEND;TZID=America/New_York:20250703T190000
DTSTAMP:20250625T135125Z
URL:https://madhrasi.com/events/medford-farmers-market-2025-07-03/
SUMMARY:Medford Farmer's Market
DESCRIPTION:
LOCATION:Medford Farmer's Market\, 2501 Mystic Valley Pkwy\,  Medford\, MA\
 , 02155\, United States
X-APPLE-STRUCTURED-LOCATION;VALUE=URI;X-ADDRESS=2501 Mystic Valley Pkwy\,  
 Medford\, MA\, 02155\, United States;X-APPLE-RADIUS=100;X-TITLE=Medford Fa
 rmer's Market:geo:0,0
END:VEVENT
BEGIN:VEVENT
UID:26@madhrasi.com
DTSTART;TZID=America/New_York:20250705T090000
DTEND;TZID=America/New_York:20250705T133000
DTSTAMP:20250625T131637Z
URL:https://madhrasi.com/events/roslindale-farmers-market-2025-07-05/
SUMMARY:Roslindale Farmers Market
DESCRIPTION:
LOCATION:Roslindale Farmers Market\, 67 Poplar St\, Boston\, MA\, 02131\, U
 nited States
X-APPLE-STRUCTURED-LOCATION;VALUE=URI;X-ADDRESS=67 Poplar St\, Boston\, MA\
 , 02131\, United States;X-APPLE-RADIUS=100;X-TITLE=Roslindale Farmers Mark
 et:geo:0,0
END:VEVENT
BEGIN:VEVENT
UID:5@madhrasi.com
DTSTART;TZID=America/New_York:20250705T090000
DTEND;TZID=America/New_York:20250705T130000
DTSTAMP:20250625T131507Z
URL:https://madhrasi.com/events/union-square-farmers-market-2025-07-05/
SUMMARY:Union Square Farmers Market
DESCRIPTION:
LOCATION:Union Square Farmers Market\, 66-70 Union Square\, Somerville\, MA
 \,  02143\, United States
X-APPLE-STRUCTURED-LOCATION;VALUE=URI;X-ADDRESS=66-70 Union Square\, Somerv
 ille\, MA\,  02143\, United States;X-APPLE-RADIUS=100;X-TITLE=Union Square
  Farmers Market:geo:0,0
END:VEVENT
BEGIN:VEVENT
UID:52@madhrasi.com
DTSTART;TZID=America/New_York:20250708T140000
DTEND;TZID=America/New_York:20250708T183000
DTSTAMP:20250625T133831Z
URL:https://madhrasi.com/events/lexington-farmers-market-2025-07-08/
SUMMARY:Lexington Farmer's Market
DESCRIPTION:
LOCATION:Lexington Farmer's Market\, Practice Field\, Worthen Rd\, Lexingto
 n\, MA\, 02420\, United States
X-APPLE-STRUCTURED-LOCATION;VALUE=URI;X-ADDRESS=Practice Field\, Worthen Rd
 \, Lexington\, MA\, 02420\, United States;X-APPLE-RADIUS=100;X-TITLE=Lexin
 gton Farmer's Market:geo:0,0
END:VEVENT
BEGIN:VEVENT
UID:194@madhrasi.com
DTSTART;TZID=America/New_York:20250710T130000
DTEND;TZID=America/New_York:20250710T180000
DTSTAMP:20250625T140756Z
URL:https://madhrasi.com/events/melrose-farmers-market-2025-07-10/
SUMMARY:Melrose Farmer's Market
DESCRIPTION:
LOCATION:Melrose Farmers Market\, 160-172 W Emerson St\,  Melrose\, MA\,  0
 2176\, United States
X-APPLE-STRUCTURED-LOCATION;VALUE=URI;X-ADDRESS=160-172 W Emerson St\,  Mel
 rose\, MA\,  02176\, United States;X-APPLE-RADIUS=100;X-TITLE=Melrose Farm
 ers Market:geo:0,0
END:VEVENT
BEGIN:VEVENT
UID:131@madhrasi.com
DTSTART;TZID=America/New_York:20250710T140000
DTEND;TZID=America/New_York:20250710T183000
DTSTAMP:20250625T134813Z
URL:https://madhrasi.com/events/belmont-farmers-market-2025-07-10/
SUMMARY:Belmont Farmers’ Market
DESCRIPTION:
LOCATION:Belmont Farmers’ Market\, 10 Claflin St\, Belmont\, MA\, 02478\,
  United States
X-APPLE-STRUCTURED-LOCATION;VALUE=URI;X-ADDRESS=10 Claflin St\, Belmont\, M
 A\, 02478\, United States;X-APPLE-RADIUS=100;X-TITLE=Belmont Farmers’ Ma
 rket:geo:0,0
END:VEVENT
BEGIN:VEVENT
UID:113@madhrasi.com
DTSTART;TZID=America/New_York:20250710T150000
DTEND;TZID=America/New_York:20250710T190000
DTSTAMP:20250625T135125Z
URL:https://madhrasi.com/events/medford-farmers-market-2025-07-10/
SUMMARY:Medford Farmer's Market
DESCRIPTION:
LOCATION:Medford Farmer's Market\, 2501 Mystic Valley Pkwy\,  Medford\, MA\
 , 02155\, United States
X-APPLE-STRUCTURED-LOCATION;VALUE=URI;X-ADDRESS=2501 Mystic Valley Pkwy\,  
 Medford\, MA\, 02155\, United States;X-APPLE-RADIUS=100;X-TITLE=Medford Fa
 rmer's Market:geo:0,0
END:VEVENT
BEGIN:VEVENT
UID:189@madhrasi.com
DTSTART;TZID=America/New_York:20250712T090000
DTEND;TZID=America/New_York:20250712T130000
DTSTAMP:20250625T135634Z
URL:https://madhrasi.com/events/braintree-farmers-market-2025-07-12/
SUMMARY:Braintree Farmers Market
DESCRIPTION:
LOCATION:Braintree Farmers Market\, 1 John F Kennedy Memorial Dr\, Braintre
 e\, MA\, 02184\, United States
X-APPLE-STRUCTURED-LOCATION;VALUE=URI;X-ADDRESS=1 John F Kennedy Memorial D
 r\, Braintree\, MA\, 02184\, United States;X-APPLE-RADIUS=100;X-TITLE=Brai
 ntree Farmers Market:geo:0,0
END:VEVENT
BEGIN:VEVENT
UID:27@madhrasi.com
DTSTART;TZID=America/New_York:20250712T090000
DTEND;TZID=America/New_York:20250712T133000
DTSTAMP:20250625T131637Z
URL:https://madhrasi.com/events/roslindale-farmers-market-2025-07-12/
SUMMARY:Roslindale Farmers Market
DESCRIPTION:
LOCATION:Roslindale Farmers Market\, 67 Poplar St\, Boston\, MA\, 02131\, U
 nited States
X-APPLE-STRUCTURED-LOCATION;VALUE=URI;X-ADDRESS=67 Poplar St\, Boston\, MA\
 , 02131\, United States;X-APPLE-RADIUS=100;X-TITLE=Roslindale Farmers Mark
 et:geo:0,0
END:VEVENT
BEGIN:VEVENT
UID:6@madhrasi.com
DTSTART;TZID=America/New_York:20250712T090000
DTEND;TZID=America/New_York:20250712T130000
DTSTAMP:20250625T131507Z
URL:https://madhrasi.com/events/union-square-farmers-market-2025-07-12/
SUMMARY:Union Square Farmers Market
DESCRIPTION:
LOCATION:Union Square Farmers Market\, 66-70 Union Square\, Somerville\, MA
 \,  02143\, United States
X-APPLE-STRUCTURED-LOCATION;VALUE=URI;X-ADDRESS=66-70 Union Square\, Somerv
 ille\, MA\,  02143\, United States;X-APPLE-RADIUS=100;X-TITLE=Union Square
  Farmers Market:geo:0,0
END:VEVENT
BEGIN:VEVENT
UID:180@madhrasi.com
DTSTART;TZID=America/New_York:20250713T100000
DTEND;TZID=America/New_York:20250713T140000
DTSTAMP:20250625T132916Z
URL:https://madhrasi.com/events/canton-farmers-market-2025-07-13/
SUMMARY:Canton Farmers Market
DESCRIPTION:
LOCATION:Canton Farmers Market\, 960 Washington St\, Canton\, MA\, 02021\, 
 United States
X-APPLE-STRUCTURED-LOCATION;VALUE=URI;X-ADDRESS=960 Washington St\, Canton\
 , MA\, 02021\, United States;X-APPLE-RADIUS=100;X-TITLE=Canton Farmers Mar
 ket:geo:0,0
END:VEVENT
BEGIN:VEVENT
UID:185@madhrasi.com
DTSTART;TZID=America/New_York:20250713T100000
DTEND;TZID=America/New_York:20250713T130000
DTSTAMP:20250625T133301Z
URL:https://madhrasi.com/events/acton-boxborough-farmers-market-2025-07-13
 /
SUMMARY:Acton-Boxborough Farmers Market
DESCRIPTION:
LOCATION:Acton-Boxborough Farmers Market\, 19 Elm St\, Acton\, MA\, 01720\,
  United States
X-APPLE-STRUCTURED-LOCATION;VALUE=URI;X-ADDRESS=19 Elm St\, Acton\, MA\, 01
 720\, United States;X-APPLE-RADIUS=100;X-TITLE=Acton-Boxborough Farmers Ma
 rket:geo:0,0
END:VEVENT
BEGIN:VEVENT
UID:157@madhrasi.com
DTSTART;TZID=America/New_York:20250713T110000
DTEND;TZID=America/New_York:20250713T170000
DTSTAMP:20250625T132156Z
URL:https://madhrasi.com/events/sowa-open-market-2025-07-13/
SUMMARY:SoWa Open Market
DESCRIPTION:
LOCATION:SoWa Open Market\, 500 Harrison Ave\, Boston\, MA\, 02118\, United
  States
X-APPLE-STRUCTURED-LOCATION;VALUE=URI;X-ADDRESS=500 Harrison Ave\, Boston\,
  MA\, 02118\, United States;X-APPLE-RADIUS=100;X-TITLE=SoWa Open Market:ge
 o:0,0
END:VEVENT
BEGIN:VEVENT
UID:66@madhrasi.com
DTSTART;TZID=America/New_York:20250716T120000
DTEND;TZID=America/New_York:20250716T180000
DTSTAMP:20250625T134455Z
URL:https://madhrasi.com/events/davis-square-farmers-market-2025-07-16/
SUMMARY:Davis Square Farmers Market
DESCRIPTION:
LOCATION:Davis Square Farmers Market\, 44 Day St\, Somerville\, MA\, 02144\
 , United States
X-APPLE-STRUCTURED-LOCATION;VALUE=URI;X-ADDRESS=44 Day St\, Somerville\, MA
 \, 02144\, United States;X-APPLE-RADIUS=100;X-TITLE=Davis Square Farmers M
 arket:geo:0,0
END:VEVENT
BEGIN:VEVENT
UID:195@madhrasi.com
DTSTART;TZID=America/New_York:20250717T130000
DTEND;TZID=America/New_York:20250717T180000
DTSTAMP:20250625T140756Z
URL:https://madhrasi.com/events/melrose-farmers-market-2025-07-17/
SUMMARY:Melrose Farmer's Market
DESCRIPTION:
LOCATION:Melrose Farmers Market\, 160-172 W Emerson St\,  Melrose\, MA\,  0
 2176\, United States
X-APPLE-STRUCTURED-LOCATION;VALUE=URI;X-ADDRESS=160-172 W Emerson St\,  Mel
 rose\, MA\,  02176\, United States;X-APPLE-RADIUS=100;X-TITLE=Melrose Farm
 ers Market:geo:0,0
END:VEVENT
BEGIN:VEVENT
UID:114@madhrasi.com
DTSTART;TZID=America/New_York:20250717T150000
DTEND;TZID=America/New_York:20250717T190000
DTSTAMP:20250625T135125Z
URL:https://madhrasi.com/events/medford-farmers-market-2025-07-17/
SUMMARY:Medford Farmer's Market
DESCRIPTION:
LOCATION:Medford Farmer's Market\, 2501 Mystic Valley Pkwy\,  Medford\, MA\
 , 02155\, United States
X-APPLE-STRUCTURED-LOCATION;VALUE=URI;X-ADDRESS=2501 Mystic Valley Pkwy\,  
 Medford\, MA\, 02155\, United States;X-APPLE-RADIUS=100;X-TITLE=Medford Fa
 rmer's Market:geo:0,0
END:VEVENT
BEGIN:VEVENT
UID:190@madhrasi.com
DTSTART;TZID=America/New_York:20250719T090000
DTEND;TZID=America/New_York:20250719T130000
DTSTAMP:20250625T135634Z
URL:https://madhrasi.com/events/braintree-farmers-market-2025-07-19/
SUMMARY:Braintree Farmers Market
DESCRIPTION:
LOCATION:Braintree Farmers Market\, 1 John F Kennedy Memorial Dr\, Braintre
 e\, MA\, 02184\, United States
X-APPLE-STRUCTURED-LOCATION;VALUE=URI;X-ADDRESS=1 John F Kennedy Memorial D
 r\, Braintree\, MA\, 02184\, United States;X-APPLE-RADIUS=100;X-TITLE=Brai
 ntree Farmers Market:geo:0,0
END:VEVENT
BEGIN:VEVENT
UID:28@madhrasi.com
DTSTART;TZID=America/New_York:20250719T090000
DTEND;TZID=America/New_York:20250719T133000
DTSTAMP:20250625T131637Z
URL:https://madhrasi.com/events/roslindale-farmers-market-2025-07-19/
SUMMARY:Roslindale Farmers Market
DESCRIPTION:
LOCATION:Roslindale Farmers Market\, 67 Poplar St\, Boston\, MA\, 02131\, U
 nited States
X-APPLE-STRUCTURED-LOCATION;VALUE=URI;X-ADDRESS=67 Poplar St\, Boston\, MA\
 , 02131\, United States;X-APPLE-RADIUS=100;X-TITLE=Roslindale Farmers Mark
 et:geo:0,0
END:VEVENT
BEGIN:VEVENT
UID:7@madhrasi.com
DTSTART;TZID=America/New_York:20250719T090000
DTEND;TZID=America/New_York:20250719T130000
DTSTAMP:20250625T131507Z
URL:https://madhrasi.com/events/union-square-farmers-market-2025-07-19/
SUMMARY:Union Square Farmers Market
DESCRIPTION:
LOCATION:Union Square Farmers Market\, 66-70 Union Square\, Somerville\, MA
 \,  02143\, United States
X-APPLE-STRUCTURED-LOCATION;VALUE=URI;X-ADDRESS=66-70 Union Square\, Somerv
 ille\, MA\,  02143\, United States;X-APPLE-RADIUS=100;X-TITLE=Union Square
  Farmers Market:geo:0,0
END:VEVENT
BEGIN:VTIMEZONE
TZID:America/New_York
X-LIC-LOCATION:America/New_York
BEGIN:DAYLIGHT
DTSTART:20250309T030000
TZOFFSETFROM:-0500
TZOFFSETTO:-0400
TZNAME:EDT
END:DAYLIGHT
BEGIN:STANDARD
DTSTART:20251102T010000
TZOFFSETFROM:-0400
TZOFFSETTO:-0500
TZNAME:EST
END:STANDARD
END:VTIMEZONE
END:VCALENDAR