BEGIN:VCALENDAR
VERSION:2.0
PRODID:-//wp-events-plugin.com//7.2.3.1//EN
BEGIN:VEVENT
UID:233@madhrasi.com
DTSTART;TZID=America/New_York:20251005T100000
DTEND;TZID=America/New_York:20251005T130000
DTSTAMP:20250908T001536Z
URL:https://madhrasi.com/events/acton-boxborough-farmers-market-4/
SUMMARY:Acton-Boxborough Farmers Market
DESCRIPTION:
LOCATION:Acton-Boxborough Farmers Market\, 19 Elm St\, Acton\, MA\, 01720\,
  United States
X-APPLE-STRUCTURED-LOCATION;VALUE=URI;X-ADDRESS=19 Elm St\, Acton\, MA\, 01
 720\, United States;X-APPLE-RADIUS=100;X-TITLE=Acton-Boxborough Farmers Ma
 rket:geo:0,0
END:VEVENT
BEGIN:VTIMEZONE
TZID:America/New_York
X-LIC-LOCATION:America/New_York
BEGIN:DAYLIGHT
DTSTART:20250309T030000
TZOFFSETFROM:-0500
TZOFFSETTO:-0400
TZNAME:EDT
END:DAYLIGHT
END:VTIMEZONE
END:VCALENDAR