BEGIN:VCALENDAR
VERSION:2.0
PRODID:-//wp-events-plugin.com//7.2.3.1//EN
BEGIN:VEVENT
UID:237@madhrasi.com
DTSTART;TZID=America/New_York:20251123T100000
DTEND;TZID=America/New_York:20251123T130000
DTSTAMP:20251121T052135Z
URL:https://madhrasi.com/events/acton-boxborough-farmers-market-5/
SUMMARY:Acton-Boxborough Farmers Market
DESCRIPTION:
LOCATION:Acton-Boxborough Farmers Market\, 19 Elm St\, Acton\, MA\, 01720\,
  United States
X-APPLE-STRUCTURED-LOCATION;VALUE=URI;X-ADDRESS=19 Elm St\, Acton\, MA\, 01
 720\, United States;X-APPLE-RADIUS=100;X-TITLE=Acton-Boxborough Farmers Ma
 rket:geo:0,0
END:VEVENT
BEGIN:VTIMEZONE
TZID:America/New_York
X-LIC-LOCATION:America/New_York
BEGIN:STANDARD
DTSTART:20251102T010000
TZOFFSETFROM:-0400
TZOFFSETTO:-0500
TZNAME:EST
END:STANDARD
END:VTIMEZONE
END:VCALENDAR