BEGIN:VCALENDAR
VERSION:2.0
PRODID:-//wp-events-plugin.com//7.2.3.1//EN
BEGIN:VEVENT
UID:139@madhrasi.com
DTSTART;TZID=America/New_York:20251030T140000
DTEND;TZID=America/New_York:20251030T183000
DTSTAMP:20250625T134813Z
URL:https://madhrasi.com/events/belmont-farmers-market-2025-10-30/
SUMMARY:Belmont Farmers’ Market
DESCRIPTION:
LOCATION:Belmont Farmers’ Market\, 10 Claflin St\, Belmont\, MA\, 02478\,
  United States
X-APPLE-STRUCTURED-LOCATION;VALUE=URI;X-ADDRESS=10 Claflin St\, Belmont\, M
 A\, 02478\, United States;X-APPLE-RADIUS=100;X-TITLE=Belmont Farmers’ Ma
 rket:geo:0,0
END:VEVENT
BEGIN:VTIMEZONE
TZID:America/New_York
X-LIC-LOCATION:America/New_York
BEGIN:DAYLIGHT
DTSTART:20250309T030000
TZOFFSETFROM:-0500
TZOFFSETTO:-0400
TZNAME:EDT
END:DAYLIGHT
END:VTIMEZONE
END:VCALENDAR