BEGIN:VCALENDAR
VERSION:2.0
PRODID:-//wp-events-plugin.com//7.2.3.1//EN
BEGIN:VEVENT
UID:223@madhrasi.com
DTSTART;TZID=America/New_York:20250927T090000
DTEND;TZID=America/New_York:20250927T130000
DTSTAMP:20250907T233940Z
URL:https://madhrasi.com/events/braintree-farmers-market-4/
SUMMARY:Braintree Farmers Market
DESCRIPTION:
LOCATION:Braintree Farmers Market\, 1 John F Kennedy Memorial Dr\, Braintre
 e\, MA\, 02184\, United States
X-APPLE-STRUCTURED-LOCATION;VALUE=URI;X-ADDRESS=1 John F Kennedy Memorial D
 r\, Braintree\, MA\, 02184\, United States;X-APPLE-RADIUS=100;X-TITLE=Brai
 ntree Farmers Market:geo:0,0
END:VEVENT
BEGIN:VTIMEZONE
TZID:America/New_York
X-LIC-LOCATION:America/New_York
BEGIN:DAYLIGHT
DTSTART:20250309T030000
TZOFFSETFROM:-0500
TZOFFSETTO:-0400
TZNAME:EDT
END:DAYLIGHT
END:VTIMEZONE
END:VCALENDAR