BEGIN:VCALENDAR
VERSION:2.0
PRODID:-//wp-events-plugin.com//7.2.3.1//EN
BEGIN:VEVENT
UID:202@madhrasi.com
DTSTART;TZID=America/New_York:20251029T140000
DTEND;TZID=America/New_York:20251029T183000
DTSTAMP:20250907T221711Z
URL:https://madhrasi.com/events/brighton-farmers-market-2025-09-03-2025-09
 -17-2025-10-01-2025-10-15-2025-10-29/
SUMMARY:Brighton Farmers Market
DESCRIPTION:
LOCATION:Brighton Farmers Market\, Brighton Common\, 30 Chestnut Hill Ave\,
  Brighton\, MA\, 02135\, United States
X-APPLE-STRUCTURED-LOCATION;VALUE=URI;X-ADDRESS=Brighton Common\, 30 Chestn
 ut Hill Ave\, Brighton\, MA\, 02135\, United States;X-APPLE-RADIUS=100;X-T
 ITLE=Brighton Farmers Market:geo:0,0
END:VEVENT
BEGIN:VTIMEZONE
TZID:America/New_York
X-LIC-LOCATION:America/New_York
BEGIN:DAYLIGHT
DTSTART:20250309T030000
TZOFFSETFROM:-0500
TZOFFSETTO:-0400
TZNAME:EDT
END:DAYLIGHT
END:VTIMEZONE
END:VCALENDAR