BEGIN:VCALENDAR
VERSION:2.0
PRODID:-//wp-events-plugin.com//7.2.3.1//EN
BEGIN:VEVENT
UID:142@madhrasi.com
DTSTART;TZID=America/New_York:20250628T110000
DTEND;TZID=America/New_York:20250628T140000
DTSTAMP:20250619T114030Z
URL:https://madhrasi.com/events/clements-marketplace/
SUMMARY:Clements Marketplace
DESCRIPTION:
LOCATION:Clements' Marketplace\, 2575 East Main Road\, Portsmouth\, RI\, 02
 871-4037\, United States
X-APPLE-STRUCTURED-LOCATION;VALUE=URI;X-ADDRESS=2575 East Main Road\, Ports
 mouth\, RI\, 02871-4037\, United States;X-APPLE-RADIUS=100;X-TITLE=Clement
 s' Marketplace:geo:0,0
END:VEVENT
BEGIN:VTIMEZONE
TZID:America/New_York
X-LIC-LOCATION:America/New_York
BEGIN:DAYLIGHT
DTSTART:20250309T030000
TZOFFSETFROM:-0500
TZOFFSETTO:-0400
TZNAME:EDT
END:DAYLIGHT
END:VTIMEZONE
END:VCALENDAR