BEGIN:VCALENDAR
VERSION:2.0
PRODID:-//wp-events-plugin.com//7.2.3.1//EN
BEGIN:VEVENT
UID:76@madhrasi.com
DTSTART;TZID=America/New_York:20251203T120000
DTEND;TZID=America/New_York:20251203T180000
DTSTAMP:20250625T134455Z
URL:https://madhrasi.com/events/davis-square-farmers-market-2025-12-03/
SUMMARY:Davis Square Farmers Market
DESCRIPTION:
LOCATION:Davis Square Farmers Market\, 44 Day St\, Somerville\, MA\, 02144\
 , United States
X-APPLE-STRUCTURED-LOCATION;VALUE=URI;X-ADDRESS=44 Day St\, Somerville\, MA
 \, 02144\, United States;X-APPLE-RADIUS=100;X-TITLE=Davis Square Farmers M
 arket:geo:0,0
END:VEVENT
BEGIN:VTIMEZONE
TZID:America/New_York
X-LIC-LOCATION:America/New_York
BEGIN:STANDARD
DTSTART:20251102T010000
TZOFFSETFROM:-0400
TZOFFSETTO:-0500
TZNAME:EST
END:STANDARD
END:VTIMEZONE
END:VCALENDAR