BEGIN:VCALENDAR
VERSION:2.0
PRODID:-//wp-events-plugin.com//7.2.3.1//EN
BEGIN:VEVENT
UID:225@madhrasi.com
DTSTART;TZID=America/New_York:20250920T110000
DTEND;TZID=America/New_York:20250920T170000
DTSTAMP:20250908T003639Z
URL:https://madhrasi.com/events/faneuil-hall-marketplace/
SUMMARY:Faneuil Hall Marketplace
DESCRIPTION:
LOCATION:Faneuil Hall Marketplace\, -\, Boston\, MA\, 02109\, United States
X-APPLE-STRUCTURED-LOCATION;VALUE=URI;X-ADDRESS=-\, Boston\, MA\, 02109\, U
 nited States;X-APPLE-RADIUS=100;X-TITLE=Faneuil Hall Marketplace:geo:0,0
END:VEVENT
BEGIN:VTIMEZONE
TZID:America/New_York
X-LIC-LOCATION:America/New_York
BEGIN:DAYLIGHT
DTSTART:20250309T030000
TZOFFSETFROM:-0500
TZOFFSETTO:-0400
TZNAME:EDT
END:DAYLIGHT
END:VTIMEZONE
END:VCALENDAR