BEGIN:VCALENDAR
VERSION:2.0
PRODID:-//wp-events-plugin.com//7.2.3.1//EN
BEGIN:VEVENT
UID:48@madhrasi.com
DTSTART;TZID=America/New_York:20250621T100000
DTEND;TZID=America/New_York:20250621T160000
DTSTAMP:20250619T103212Z
URL:https://madhrasi.com/events/food-fight-event/
SUMMARY:Food Fight Event
DESCRIPTION:https://secure.qgiv.com/for/ssfbfoodfighters/event/foodfight/
CATEGORIES:SpecialEvents
LOCATION:Starland Sportsplex & Fun Park\, 637 Washington St. \, Hanover\, M
 A\, 02339\, United States
X-APPLE-STRUCTURED-LOCATION;VALUE=URI;X-ADDRESS=637 Washington St. \, Hanov
 er\, MA\, 02339\, United States;X-APPLE-RADIUS=100;X-TITLE=Starland Sports
 plex & Fun Park:geo:0,0
END:VEVENT
BEGIN:VTIMEZONE
TZID:America/New_York
X-LIC-LOCATION:America/New_York
BEGIN:DAYLIGHT
DTSTART:20250309T030000
TZOFFSETFROM:-0500
TZOFFSETTO:-0400
TZNAME:EDT
END:DAYLIGHT
END:VTIMEZONE
END:VCALENDAR