BEGIN:VCALENDAR
VERSION:2.0
PRODID:-//wp-events-plugin.com//7.2.3.1//EN
BEGIN:VEVENT
UID:51@madhrasi.com
DTSTART;TZID=America/New_York:20250624T120000
DTEND;TZID=America/New_York:20250624T190000
DTSTAMP:20250619T095241Z
URL:https://madhrasi.com/events/lexington-farmers-market-2025-06-24/
SUMMARY:Lexington Farmer's Market
DESCRIPTION:
LOCATION:Lexington Farmer's Market\, Practice Field\, Worthen Rd\, Lexingto
 n\, MA\, 02420\, United States
X-APPLE-STRUCTURED-LOCATION;VALUE=URI;X-ADDRESS=Practice Field\, Worthen Rd
 \, Lexington\, MA\, 02420\, United States;X-APPLE-RADIUS=100;X-TITLE=Lexin
 gton Farmer's Market:geo:0,0
END:VEVENT
BEGIN:VTIMEZONE
TZID:America/New_York
X-LIC-LOCATION:America/New_York
BEGIN:DAYLIGHT
DTSTART:20250309T030000
TZOFFSETFROM:-0500
TZOFFSETTO:-0400
TZNAME:EDT
END:DAYLIGHT
END:VTIMEZONE
END:VCALENDAR