BEGIN:VCALENDAR
VERSION:2.0
PRODID:-//wp-events-plugin.com//7.2.3.1//EN
BEGIN:VEVENT
UID:118@madhrasi.com
DTSTART;TZID=America/New_York:20250814T150000
DTEND;TZID=America/New_York:20250814T190000
DTSTAMP:20250625T135125Z
URL:https://madhrasi.com/events/medford-farmers-market-2025-08-14/
SUMMARY:Medford Farmer's Market
DESCRIPTION:
LOCATION:Medford Farmer's Market\, 2501 Mystic Valley Pkwy\,  Medford\, MA\
 , 02155\, United States
X-APPLE-STRUCTURED-LOCATION;VALUE=URI;X-ADDRESS=2501 Mystic Valley Pkwy\,  
 Medford\, MA\, 02155\, United States;X-APPLE-RADIUS=100;X-TITLE=Medford Fa
 rmer's Market:geo:0,0
END:VEVENT
BEGIN:VTIMEZONE
TZID:America/New_York
X-LIC-LOCATION:America/New_York
BEGIN:DAYLIGHT
DTSTART:20250309T030000
TZOFFSETFROM:-0500
TZOFFSETTO:-0400
TZNAME:EDT
END:DAYLIGHT
END:VTIMEZONE
END:VCALENDAR