BEGIN:VCALENDAR
VERSION:2.0
PRODID:-//wp-events-plugin.com//7.2.3.1//EN
BEGIN:VEVENT
UID:212@madhrasi.com
DTSTART;TZID=America/New_York:20251030T130000
DTEND;TZID=America/New_York:20251030T180000
DTSTAMP:20250907T224644Z
URL:https://madhrasi.com/events/melrose-farmers-market-2-2025-10-30/
SUMMARY:Melrose Farmer's Market
DESCRIPTION:
LOCATION:Melrose Farmers Market\, 160-172 W Emerson St\,  Melrose\, MA\,  0
 2176\, United States
X-APPLE-STRUCTURED-LOCATION;VALUE=URI;X-ADDRESS=160-172 W Emerson St\,  Mel
 rose\, MA\,  02176\, United States;X-APPLE-RADIUS=100;X-TITLE=Melrose Farm
 ers Market:geo:0,0
END:VEVENT
BEGIN:VTIMEZONE
TZID:America/New_York
X-LIC-LOCATION:America/New_York
BEGIN:DAYLIGHT
DTSTART:20250309T030000
TZOFFSETFROM:-0500
TZOFFSETTO:-0400
TZNAME:EDT
END:DAYLIGHT
END:VTIMEZONE
END:VCALENDAR