BEGIN:VCALENDAR
VERSION:2.0
PRODID:-//wp-events-plugin.com//7.2.3.1//EN
BEGIN:VEVENT
UID:43@madhrasi.com
DTSTART;TZID=America/New_York:20251101T090000
DTEND;TZID=America/New_York:20251101T133000
DTSTAMP:20250625T131637Z
URL:https://madhrasi.com/events/roslindale-farmers-market-2025-11-01/
SUMMARY:Roslindale Farmers Market
DESCRIPTION:
LOCATION:Roslindale Farmers Market\, 67 Poplar St\, Boston\, MA\, 02131\, U
 nited States
X-APPLE-STRUCTURED-LOCATION;VALUE=URI;X-ADDRESS=67 Poplar St\, Boston\, MA\
 , 02131\, United States;X-APPLE-RADIUS=100;X-TITLE=Roslindale Farmers Mark
 et:geo:0,0
END:VEVENT
BEGIN:VTIMEZONE
TZID:America/New_York
X-LIC-LOCATION:America/New_York
BEGIN:DAYLIGHT
DTSTART:20250309T030000
TZOFFSETFROM:-0500
TZOFFSETTO:-0400
TZNAME:EDT
END:DAYLIGHT
END:VTIMEZONE
END:VCALENDAR