BEGIN:VCALENDAR
VERSION:2.0
PRODID:-//wp-events-plugin.com//7.2.3.1//EN
BEGIN:VEVENT
UID:280@madhrasi.com
DTSTART;TZID=America/New_York:20251221T110000
DTEND;TZID=America/New_York:20251221T200000
DTSTAMP:20251121T054451Z
URL:https://madhrasi.com/events/snowport-holiday-market-4-2025-11-09-2025-
 11-16-2025-11-23-2025-11-30-2025-12-07-2025-12-14-2025-12-21/
SUMMARY:Snowport Holiday Market
DESCRIPTION:
CATEGORIES:SpecialEvents
LOCATION:Snowport Holiday Market\, 100 Seaport Blvd\, Boston\, MA\, 02210\,
  United States
X-APPLE-STRUCTURED-LOCATION;VALUE=URI;X-ADDRESS=100 Seaport Blvd\, Boston\,
  MA\, 02210\, United States;X-APPLE-RADIUS=100;X-TITLE=Snowport Holiday Ma
 rket:geo:0,0
END:VEVENT
BEGIN:VTIMEZONE
TZID:America/New_York
X-LIC-LOCATION:America/New_York
BEGIN:STANDARD
DTSTART:20251102T010000
TZOFFSETFROM:-0400
TZOFFSETTO:-0500
TZNAME:EST
END:STANDARD
END:VTIMEZONE
END:VCALENDAR