BEGIN:VCALENDAR
VERSION:2.0
PRODID:-//wp-events-plugin.com//7.2.3.1//EN
BEGIN:VEVENT
UID:235@madhrasi.com
DTSTART;TZID=America/New_York:20250928T100000
DTEND;TZID=America/New_York:20250928T140000
DTSTAMP:20250908T003138Z
URL:https://madhrasi.com/events/sofra-bakery-cafe-event/
SUMMARY:Sofra Bakery & Cafe Event
DESCRIPTION:
LOCATION:Sofra Bakery Market Event\, 1 Belmont St\, Cambridge\, MA\, 02138\
 , United States
X-APPLE-STRUCTURED-LOCATION;VALUE=URI;X-ADDRESS=1 Belmont St\, Cambridge\, 
 MA\, 02138\, United States;X-APPLE-RADIUS=100;X-TITLE=Sofra Bakery Market 
 Event:geo:0,0
END:VEVENT
BEGIN:VTIMEZONE
TZID:America/New_York
X-LIC-LOCATION:America/New_York
BEGIN:DAYLIGHT
DTSTART:20250309T030000
TZOFFSETFROM:-0500
TZOFFSETTO:-0400
TZNAME:EDT
END:DAYLIGHT
END:VTIMEZONE
END:VCALENDAR