BEGIN:VCALENDAR
VERSION:2.0
PRODID:-//wp-events-plugin.com//7.2.3.1//EN
BEGIN:VEVENT
UID:22@madhrasi.com
DTSTART;TZID=America/New_York:20251101T090000
DTEND;TZID=America/New_York:20251101T130000
DTSTAMP:20250625T131507Z
URL:https://madhrasi.com/events/union-square-farmers-market-2025-11-01/
SUMMARY:Union Square Farmers Market
DESCRIPTION:
LOCATION:Union Square Farmers Market\, 66-70 Union Square\, Somerville\, MA
 \,  02143\, United States
X-APPLE-STRUCTURED-LOCATION;VALUE=URI;X-ADDRESS=66-70 Union Square\, Somerv
 ille\, MA\,  02143\, United States;X-APPLE-RADIUS=100;X-TITLE=Union Square
  Farmers Market:geo:0,0
END:VEVENT
BEGIN:VTIMEZONE
TZID:America/New_York
X-LIC-LOCATION:America/New_York
BEGIN:DAYLIGHT
DTSTART:20250309T030000
TZOFFSETFROM:-0500
TZOFFSETTO:-0400
TZNAME:EDT
END:DAYLIGHT
END:VTIMEZONE
END:VCALENDAR